Workbook

Sheet Schlüssel
A1: Schlüsselliste
A2: Alle Schlüssel eines Objekts mit Bestand. „Im Umlauf“ und „Im Bestand“ rechnen sich aus dem Blatt „Ausgaben“.
A4: Schlüssel-Nr. | B4: Bezeichnung | C4: Schließt (Türen, Bereiche) | D4: Objekt | E4: Anzahl gesamt | F4: Im Umlauf | G4: Im Bestand | H4: Aufbewahrungsort
A5: GHS-1 | B5: Generalhauptschlüssel | C5: alle Türen | D5: Musterstraße 1 | E5: 2 | F5: =IF(A5="","",SUMIFS(Ausgaben!$C:$C,Ausgaben!$B:$B,A5,Ausgaben!$I:$I,"")) | G5: =IF(A5="","",E5-F5) | H5: Tresor Büro
A6: HS-1 | B6: Hauptschlüssel Technik | C6: Haustür, Keller, Technik, Müllraum | D6: Musterstraße 1 | E6: 3 | F6: =IF(A6="","",SUMIFS(Ausgaben!$C:$C,Ausgaben!$B:$B,A6,Ausgaben!$I:$I,"")) | G6: =IF(A6="","",E6-F6) | H6: Schlüsselschrank
A7: W-01 | B7: Wohnung 1 | C7: Wohnung 1, Haustür, Keller | D7: Musterstraße 1 | E7: 4 | F7: =IF(A7="","",SUMIFS(Ausgaben!$C:$C,Ausgaben!$B:$B,A7,Ausgaben!$I:$I,"")) | G7: =IF(A7="","",E7-F7) | H7: Schlüsselschrank
F8: =IF(A8="","",SUMIFS(Ausgaben!$C:$C,Ausgaben!$B:$B,A8,Ausgaben!$I:$I,"")) | G8: =IF(A8="","",E8-F8)
F9: =IF(A9="","",SUMIFS(Ausgaben!$C:$C,Ausgaben!$B:$B,A9,Ausgaben!$I:$I,"")) | G9: =IF(A9="","",E9-F9)
F10: =IF(A10="","",SUMIFS(Ausgaben!$C:$C,Ausgaben!$B:$B,A10,Ausgaben!$I:$I,"")) | G10: =IF(A10="","",E10-F10)
F11: =IF(A11="","",SUMIFS(Ausgaben!$C:$C,Ausgaben!$B:$B,A11,Ausgaben!$I:$I,"")) | G11: =IF(A11="","",E11-F11)
F12: =IF(A12="","",SUMIFS(Ausgaben!$C:$C,Ausgaben!$B:$B,A12,Ausgaben!$I:$I,"")) | G12: =IF(A12="","",E12-F12)
F13: =IF(A13="","",SUMIFS(Ausgaben!$C:$C,Ausgaben!$B:$B,A13,Ausgaben!$I:$I,"")) | G13: =IF(A13="","",E13-F13)
F14: =IF(A14="","",SUMIFS(Ausgaben!$C:$C,Ausgaben!$B:$B,A14,Ausgaben!$I:$I,"")) | G14: =IF(A14="","",E14-F14)
F15: =IF(A15="","",SUMIFS(Ausgaben!$C:$C,Ausgaben!$B:$B,A15,Ausgaben!$I:$I,"")) | G15: =IF(A15="","",E15-F15)
F16: =IF(A16="","",SUMIFS(Ausgaben!$C:$C,Ausgaben!$B:$B,A16,Ausgaben!$I:$I,"")) | G16: =IF(A16="","",E16-F16)
F17: =IF(A17="","",SUMIFS(Ausgaben!$C:$C,Ausgaben!$B:$B,A17,Ausgaben!$I:$I,"")) | G17: =IF(A17="","",E17-F17)
F18: =IF(A18="","",SUMIFS(Ausgaben!$C:$C,Ausgaben!$B:$B,A18,Ausgaben!$I:$I,"")) | G18: =IF(A18="","",E18-F18)
F19: =IF(A19="","",SUMIFS(Ausgaben!$C:$C,Ausgaben!$B:$B,A19,Ausgaben!$I:$I,"")) | G19: =IF(A19="","",E19-F19)
... F64: =IF(A64="","",SUMIFS(Ausgaben!$C:$C,Ausgaben!$B:$B,A64,Ausgaben!$I:$I,"")) | G64: =IF(A64="","",E64-F64)

Sheet Ausgaben
A1: Ausgabe am | B1: Schlüssel-Nr. | C1: Anzahl | D1: An (Name) | E1: Firma / Abteilung / Wohnung | F1: Zweck | G1: Rückgabe bis | H1: Unterschrift erhalten | I1: Zurück am | J1: Bemerkung
A2: 01.10.2026 | B2: W-01 | C2: 2 | D2: Beispiel Mieterin | E2: Wohnung 1 | F2: Einzug | H2: ja
A3: 15.10.2026 | B3: HS-1 | C3: 1 | D3: Beispiel Handwerker | E3: Heizungsfirma | F3: Wartung | G3: 17.10.2026 | H3: ja | I3: 17.10.2026

Sheet Hinweise
A1: So nutzen Sie die Schlüsselliste
A2: Blatt „Schlüssel“: eine Zeile je Schlüssel oder Schlüsselgruppe mit der Gesamtzahl.
A3: Blatt „Ausgaben“: eine Zeile je Ausgabe. Wird ein Schlüssel zurückgegeben, tragen Sie das Datum in „Zurück am“ ein.
A4: „Im Umlauf“ zählt alle Ausgaben ohne Rückgabedatum, „Im Bestand“ ist der Rest.
A5: Die drei Beispielzeilen können Sie überschreiben oder löschen.
A7: Grenzen einer Tabelle: keine Unterschrift, keine Erinnerung an Rückgaben, kein Zugriffsschutz pro Person.
A8: Digital mit Unterschrift auf dem Handy, Erinnerungen und Schließplan: key-task.de (1 Objekt bis 50 Schlüssel kostenlos)
